BEGIN:VCALENDAR
VERSION:2.0
PRODID:-//2Bsecure//NONSGML v1.0//EN
X-WR-CALNAME:2Bsecure
X-ORIGINAL-URL:https://www.2bsecure.co.il
X-WR-CALDESC:Posts from 2Bsecure
CALSCALE:GREGORIAN
METHOD:PUBLISH
BEGIN:VEVENT
UID:https%3A%2F%2Fwpadmin.2bsecure.co.il%2F%3Fp%3D2014
DTSTAMP:20210407T103749Z
DTSTART:20210407T103659Z
DTEND:20210407T113659Z
ORGANIZER:2Bsecure
SUMMARY:OP ISRAEL 2021
URL;VALUE=URI:https://www.2bsecure.co.il/2021/04/07/op-israel-2021/
END:VEVENT
BEGIN:VEVENT
UID:https%3A%2F%2Fwpadmin.2bsecure.co.il%2F%3Fp%3D1922
DTSTAMP:20200624T115327Z
DTSTART:20200624T115324Z
DTEND:20200624T125324Z
ORGANIZER:2Bsecure
SUMMARY:ZERO TRUST
URL;VALUE=URI:https://www.2bsecure.co.il/2020/06/24/zero-trust/
END:VEVENT
BEGIN:VEVENT
UID:https%3A%2F%2Fwpadmin.2bsecure.co.il%2F%3Fp%3D1914
DTSTAMP:20200624T113632Z
DTSTART:20200624T113438Z
DTEND:20200624T123438Z
ORGANIZER:2Bsecure
SUMMARY:Cyber attacks and the global warming by Pablo Gutt
URL;VALUE=URI:https://www.2bsecure.co.il/2020/06/24/cyber-attacks-more-exp
 ensive-than-global-warming-by-pablo-gutt/
END:VEVENT
BEGIN:VEVENT
UID:https%3A%2F%2Fwpadmin.2bsecure.co.il%2F%3Fp%3D1910
DTSTAMP:20200624T114354Z
DTSTART:20200624T112923Z
DTEND:20200624T122923Z
ORGANIZER:2Bsecure
SUMMARY:Global Cyber virus by Pablo Gutt
URL;VALUE=URI:https://www.2bsecure.co.il/2020/06/24/global-cyber-virus-by-
 pablo-gutt/
END:VEVENT
BEGIN:VEVENT
UID:https%3A%2F%2Fwpadmin.2bsecure.co.il%2F%3Fp%3D1900
DTSTAMP:20200624T114011Z
DTSTART:20200624T112045Z
DTEND:20200624T122045Z
ORGANIZER:2Bsecure
SUMMARY:New gateway to cyber threats by Pablo Gutt
URL;VALUE=URI:https://www.2bsecure.co.il/2020/06/24/new-gateway-to-cyber-t
 hreats/
END:VEVENT
BEGIN:VEVENT
UID:http%3A%2F%2Fnew2bsecure.b-sol.co.il%2F%3Fp%3D1643
DTSTAMP:20200624T110930Z
DTSTART:20191201T094526Z
DTEND:20191201T104526Z
ORGANIZER:2Bsecure
SUMMARY:The safest way to buy online by Doria Galam
URL;VALUE=URI:https://www.2bsecure.co.il/2019/12/01/dsdfsffd/
END:VEVENT
BEGIN:VEVENT
UID:http%3A%2F%2Fnew2bsecure.b-sol.co.il%2F%3Fp%3D1634
DTSTAMP:20200624T110802Z
DTSTART:20191118T135613Z
DTEND:20191118T145613Z
ORGANIZER:2Bsecure
SUMMARY:Security threats in mobile apps by Doria Galam
URL;VALUE=URI:https://www.2bsecure.co.il/2019/11/18/auto-draftkvkv/
END:VEVENT
BEGIN:VEVENT
UID:http%3A%2F%2Fnew2bsecure.b-sol.co.il%2F%3Fp%3D1620
DTSTAMP:20200624T110433Z
DTSTART:20191118T121511Z
DTEND:20191118T131511Z
ORGANIZER:2Bsecure
SUMMARY:Cyber ​​Women’s Conference
URL;VALUE=URI:https://www.2bsecure.co.il/2019/11/18/%d7%a0%d7%a1%d7%99%d7%
 95%d7%9f/
END:VEVENT
BEGIN:VEVENT
UID:http%3A%2F%2Fnew2bsecure.b-sol.co.il%2F%3Fp%3D1563
DTSTAMP:20200624T110308Z
DTSTART:20191030T102034Z
DTEND:20191030T112034Z
ORGANIZER:2Bsecure
SUMMARY:Roney- Sales Manager participates in a nonprofit competition
 challenge
URL;VALUE=URI:https://www.2bsecure.co.il/2019/10/30/articals-2/
END:VEVENT
BEGIN:VEVENT
UID:http%3A%2F%2Fnew2bsecure.b-sol.co.il%2F%3Fp%3D1561
DTSTAMP:20200624T110132Z
DTSTART:20191030T101908Z
DTEND:20191030T111908Z
ORGANIZER:2Bsecure
SUMMARY:Moti Chico has been appointed CEO of 2BSecure
URL;VALUE=URI:https://www.2bsecure.co.il/2019/10/30/articals-1/
END:VEVENT
BEGIN:VEVENT
UID:http%3A%2F%2Fdemos.pixelatethemes.com%2Ffinance%2Ffive%2F%3Fp%3D19
DTSTAMP:20190827T074131Z
DTSTART:20190716T073758Z
DTEND:20190716T083758Z
ORGANIZER:2Bsecure
SUMMARY:Women in Cyber Security
URL;VALUE=URI:https://www.2bsecure.co.il/2019/07/16/cost-for-craftmanship-
 nostrum-exercitationem/
END:VEVENT
BEGIN:VEVENT
UID:http%3A%2F%2Fdemos.pixelatethemes.com%2Ffinance%2Ffive%2F%3Fp%3D13
DTSTAMP:20190826T095619Z
DTSTART:20190601T200056Z
DTEND:20190601T210056Z
ORGANIZER:2Bsecure
SUMMARY:Champions league Final event
URL;VALUE=URI:https://www.2bsecure.co.il/2019/06/01/ut-enim-ad-minima-veni
 am-quis-nostrum/
END:VEVENT
END:VCALENDAR
